BEGIN:VCALENDAR
VERSION:2.0
PRODID:-//wp-events-plugin.com//7.2.3.1//EN
TZID:Europe/Berlin
X-WR-TIMEZONE:Europe/Berlin
BEGIN:VEVENT
UID:30@musikschule-toelz.de
DTSTART;TZID=Europe/Berlin:20240322T193000
DTEND;TZID=Europe/Berlin:20240322T210000
DTSTAMP:20240109T085208Z
URL:https://musikschule-toelz.de/veranstaltung/100-jahre-toelzer-stadtkape
 lle/
SUMMARY:100 Jahre Tölzer Stadtkapelle
DESCRIPTION:Mehr als nur Blasmusik – Geschichte und Geschichten einer Kul
 tureinrichtung\n\nSeit dem Jahr 1924 erfreut die Tölzer Stadtkapelle Mens
 chen aus nah und fern. Wenn heute das 100-jährige Bestehen des Klangkörp
 ers gefeiert wird\, gibt es Anlass und Gelegenheit\, Verantwortlichen\, Mu
 sizierenden\, Zeitzeugen und verdienten Personen auf den Zahn zu fühlen.\
 n\nStadtkapellmeister Josef Kronwitter\, 1. Vorsitzender Martin Schnitzer\
 , die Musikanten Anni Detter\, Josef Niedermaier (Landrat des Landkreises 
 Bad Tölz-Wolfratshausen)\, Michael Lindmair (2. Bürgermeister der Stadt 
 Bad Tölz)\, Michael Disl und Toni Singer werden Rede und Antwort stehen\,
  wenn Dr. Ingo Mehner (1. Bürgermeister der Stadt Bad Tölz) und Harald R
 oßberger (Leiter der Sing- und Musikschule Bad Tölz) versuchen\, Wissens
 wertes\, Interessantes\, Unterhaltsames und Persönliches aus den Podiumsg
 ästen herauszukitzeln.\n\nFreuen Sie sich auf einen Abend mit Geschichte\
 , Geschichten\, historischen Dokumenten\, Bildern und Tonaufnahmen rund um
  die Tölzer Stadtkapelle.\n\nAufgrund  der  begrenzten  Sitzplätze  
 bitten wir um Kartenreservierung. Dies ist möglich bei  der  Tourist-In
 formation (Max-Höfler-Platz und Stadtmuseum)\, dem Tölzer Marionettenthe
 ater\,  der  Sing-  und  Musikschule Bad Tölz und der Volkshochschule
  Bad Tölz.
ATTACH;FMTTYPE=image/jpeg:https://musikschule-toelz.de/wp-content/uploads/
 2024/01/Stadtkapelle.jpg
CATEGORIES:Akademie am Schloßplatz
LOCATION:Tölzer Marionettentheater\, Am Schloßplatz 9\, Bad Tölz\, 83646
 \, Deutschland
X-APPLE-STRUCTURED-LOCATION;VALUE=URI;X-ADDRESS=Am Schloßplatz 9\, Bad Tö
 lz\, 83646\, Deutschland;X-APPLE-RADIUS=100;X-TITLE=Tölzer Marionettenthe
 ater:geo:0,0
END:VEVENT
BEGIN:VTIMEZONE
TZID:Europe/Berlin
X-LIC-LOCATION:Europe/Berlin
BEGIN:STANDARD
DTSTART:20231029T020000
TZOFFSETFROM:+0200
TZOFFSETTO:+0100
TZNAME:CET
END:STANDARD
END:VTIMEZONE
END:VCALENDAR