BEGIN:VCALENDAR
VERSION:2.0
PRODID:-//wp-events-plugin.com//7.2.3.1//EN
TZID:Europe/Berlin
X-WR-TIMEZONE:Europe/Berlin
BEGIN:VEVENT
UID:122@musikschule-toelz.de
DTSTART;TZID=Europe/Berlin:20260227T193000
DTEND;TZID=Europe/Berlin:20260227T210000
DTSTAMP:20251202T074641Z
URL:https://musikschule-toelz.de/veranstaltung/akademie-am-schlossplatz-ca
 ravaggio-meister-der-dramatischen-hell-dunkel-effekte/
SUMMARY:Akademie am Schloßplatz: Caravaggio - Meister der dramatischen Hel
 l-Dunkel-Effekte
DESCRIPTION:Als der Maler Caravaggio (1571 - 1610) am 18. Juli 1610 unter b
 is heute nicht gänzlich geklärten Umständen mit noch nicht einmal 39 Ja
 hren starb\, verlor die Kunstwelt einen der innovativsten und vielleicht a
 uch radikalsten Maler aller Zeiten. Sein zwiespältiges Leben (zu dem exze
 ssive Ausschweifungen\, Armut\, Landesflucht und sogar ein Mordprozess gen
 auso gehörten wie die Patronage durch einige der mächtigsten italienisch
 en Familien seiner Zeit) sowie die Andersartigkeit seines Werkes sollen an
  diesem Abend eine Würdigung finden und erklären\, warum Caravaggio als 
 einer der wesentlichen Triebfedern der Barockmalerei gelten darf.\n\nStefa
 n Müller hat das Studium der Kunstgeschichte\, Klassischen Archäologie u
 nd Neueren deutschen Literaturwissenschaft an den Universitäten in Gieße
 n und Marburg mit dem Magister Artium abgeschlossen und ist seit 2008 als 
 freiberuflicher Kunsthistoriker mit dem Schwerpunkt Erwachsenenbildung tä
 tig.\n\n\n\nKarten zu 12\,- € sind in der Sing- und Musikschule\, in der
  Volkshochschule oder im Marionettentheater Bad Tölz sowie an der Abendka
 sse erhältlich.\n\nWeitere Infos zur Veranstaltungsreihe „Akademie am S
 chloßplatz“ finden Sie hier:\n\nhttps://isar-vhs.de/Artikel/cmx60d47ec1
 006ef.html\n\n
ATTACH;FMTTYPE=image/jpeg:https://musikschule-toelz.de/wp-content/uploads/
 2025/12/AaS_27.02.26.webp
CATEGORIES:Akademie am Schloßplatz
LOCATION:Tölzer Marionettentheater\, Am Schloßplatz 9\, Bad Tölz\, 83646
 \, Deutschland
X-APPLE-STRUCTURED-LOCATION;VALUE=URI;X-ADDRESS=Am Schloßplatz 9\, Bad Tö
 lz\, 83646\, Deutschland;X-APPLE-RADIUS=100;X-TITLE=Tölzer Marionettenthe
 ater:geo:0,0
END:VEVENT
BEGIN:VTIMEZONE
TZID:Europe/Berlin
X-LIC-LOCATION:Europe/Berlin
BEGIN:STANDARD
DTSTART:20251026T020000
TZOFFSETFROM:+0200
TZOFFSETTO:+0100
TZNAME:CET
END:STANDARD
END:VTIMEZONE
END:VCALENDAR