BEGIN:VCALENDAR
VERSION:2.0
PRODID:-//wp-events-plugin.com//7.2.3.1//EN
TZID:Europe/Berlin
X-WR-TIMEZONE:Europe/Berlin
BEGIN:VEVENT
UID:23@musikschule-toelz.de
DTSTART;TZID=Europe/Berlin:20240126T193000
DTEND;TZID=Europe/Berlin:20240126T210000
DTSTAMP:20240109T085104Z
URL:https://musikschule-toelz.de/veranstaltung/burnout-alles-kopfsache/
SUMMARY:Burnout - Alles Kopfsache !?
DESCRIPTION:Der Einfluss des Gehirns auf unser „Ausbrennen“\n\nThematis
 cher Ausgangspunkt der Veranstaltung ist die Frage: „Ist Burnout nur ein
 e Folge falschen Denkens? Und welchen Einfluss hat unser Gehirn auf das Bu
 rnout-Syndrom?“. Ein wesentliches Anliegen dabei ist\, Erklärungen und 
 Antworten auf häufig gestellte Fragen zu geben. Wie z.B.: Was verursacht 
 Burnout?  Wie lassen sich erste Anzeichen von Burnout erkennen?  Wann bi
 n ich betroffen?  Was hilft gegen Burnout?  Auf Grundlage des wissenscha
 ftlichen Konsens zum Thema\, präsentiert der Referent Wissenswertes\, und
  hilft\, die Informationsflut einzuordnen.\n\nAndreas Thierig\, Psychologe
  M.Sc.\, mit breitem beruflichem Erfahrungshintergrund lebt seit über 30 
 Jahren im Isarwinkel. Parallel zum Psychologiestudium arbeitete er im Klin
 ikum am Europakanal in Erlangen mit psychiatrischen Patienten\; seither di
 e solide Grundlage für seine Tätigkeit in der klinischen Psychologie. Na
 ch seiner Abschlussarbeit\, in der er den Einfluss von Resilienz u.a. auf 
 das Burnout-Syndrom untersuchte\, folgten Engagements in den Medical Park 
 Rehakliniken in Bad Feilnbach. Beginnend mit kardiologischen und onkologis
 chen Indikationen\, war er dort zuletzt in der Abteilung Neuropsychologie 
 unter Leitung der Herren Prof. Keller und Young tätig. Im Mittelpunkt sta
 nd die neuro-psychologische Versorgung der Patienten mit Schädigungen des
  Gehirns. Dies ist auch Schwerpunkt seiner aktuellen Tätigkeit bei Neurok
 om Bad Tölz.\nAufgrund  der  begrenzten  Sitzplätze  bitten wir um K
 artenreservierung. Dies ist möglich bei  der  Tourist-Information (Max-
 Höfler-Platz und Stadtmuseum)\, dem Tölzer Marionettentheater\,  der  
 Sing-  und  Musikschule Bad Tölz und der Volkshochschule Bad Tölz.
ATTACH;FMTTYPE=image/jpeg:https://musikschule-toelz.de/wp-content/uploads/
 2024/01/Burnout.jpg
CATEGORIES:Akademie am Schloßplatz
LOCATION:Tölzer Marionettentheater\, Am Schloßplatz 9\, Bad Tölz\, 83646
 \, Deutschland
X-APPLE-STRUCTURED-LOCATION;VALUE=URI;X-ADDRESS=Am Schloßplatz 9\, Bad Tö
 lz\, 83646\, Deutschland;X-APPLE-RADIUS=100;X-TITLE=Tölzer Marionettenthe
 ater:geo:0,0
END:VEVENT
BEGIN:VTIMEZONE
TZID:Europe/Berlin
X-LIC-LOCATION:Europe/Berlin
BEGIN:STANDARD
DTSTART:20231029T020000
TZOFFSETFROM:+0200
TZOFFSETTO:+0100
TZNAME:CET
END:STANDARD
END:VTIMEZONE
END:VCALENDAR