BEGIN:VCALENDAR
VERSION:2.0
PRODID:-//wp-events-plugin.com//7.2.3.1//EN
TZID:Europe/Berlin
X-WR-TIMEZONE:Europe/Berlin
BEGIN:VEVENT
UID:57@musikschule-toelz.de
DTSTART:20250117T183000Z
DTEND:20250117T200000Z
DTSTAMP:20241104T101520Z
URL:https://musikschule-toelz.de/veranstaltung/die-verschwundenen-beweise-
 ein-chemisches-raetsel/
SUMMARY:Die verschwundenen Beweise - Ein chemisches Rätsel
DESCRIPTION:Chemie mag für Manche ein Mysterium sein\, und oft hört man\,
  dass sie komplex oder uninteressant sei. Auch denken Viele\, dass es zu s
 pät sei die Chemie zu verstehen oder sie verwenden den Begriff synonym zu
  „künstlich“. Diese Vorurteile gegenüber der Naturwissenschaft sind 
 weit verbreitet.\nDie Veranstaltung bietet eine unterhaltsame Möglichkeit
 \, chemisches Wissen zu erlangen\, ohne sich dabei überfordert zu fühlen
 . Ein Chemielehrer und ein Wissenschaftler präsentieren Ihnen ein einziga
 rtiges Format\, das Elemente eines Krimidinners (ohne Dinner)\, einer Show
 vorlesung (ohne Vorlesung) und einer Zauberperformance (mit viel Magie) ve
 reint. Durch chemisch-forensische Experimente und die Beteiligung des Publ
 ikums wird gemeinsam ein Kriminalfall gelöst und vielleicht sogar Ihre Be
 geisterung für die Chemie entfacht.\nEine Veranstaltung für Jung und Alt
 \, mit oder ohne Vorkenntnissen.\n\nAufgrund  der  begrenzten  Sitzplä
 tze  bitten wir um Kartenreservierung. Dies ist möglich bei  der  Tour
 ist-Information (Max-Höfler-Platz und Stadtmuseum)\, dem Tölzer Marionet
 tentheater\,  der  Sing-  und  Musikschule Bad Tölz und der Volkshoch
 schule Bad Tölz.\n&nbsp\;\n\n\n\nZeiten\n1 Abend\, 17.01.2025\nFreitag\, 
 19:30 - 21:00 Uhr\n\n\n\n1 Termin(e)\n\n\n\n\n\n\n\n\n\n\n\nLeitung\n\nDr.
  Maximilian Dietz\nMarkus Zimmermann\n\n\nNummer\n110.001TAk\n\n\nOrt\n\n
  Tölzer Marionettentheater\, Am Schloßplatz 9\, 83646 Bad Tölz\, Gro
 ßer Saal\, EG\n\n\nPreis\nAbendkasse 12\,00 €\n\n\n
ATTACH;FMTTYPE=image/jpeg:https://musikschule-toelz.de/wp-content/uploads/
 2024/11/Chemie-Akademie.jpg
CATEGORIES:Akademie am Schloßplatz
LOCATION:Tölzer Marionettentheater\, Am Schloßplatz 9\, Bad Tölz\, 83646
 \, Deutschland
X-APPLE-STRUCTURED-LOCATION;VALUE=URI;X-ADDRESS=Am Schloßplatz 9\, Bad Tö
 lz\, 83646\, Deutschland;X-APPLE-RADIUS=100;X-TITLE=Tölzer Marionettenthe
 ater:geo:0,0
END:VEVENT
END:VCALENDAR