BEGIN:VCALENDAR
VERSION:2.0
PRODID:-//wp-events-plugin.com//7.2.3.1//EN
TZID:Europe/Berlin
X-WR-TIMEZONE:Europe/Berlin
BEGIN:VEVENT
UID:163@musikschule-toelz.de
DTSTART;TZID=Europe/Berlin:20260531T103000
DTEND;TZID=Europe/Berlin:20260531T120000
DTSTAMP:20260422T152027Z
URL:https://musikschule-toelz.de/veranstaltung/ensemble-jamenco-2/
SUMMARY:Ensemble Jamenco
DESCRIPTION:
CATEGORIES:Matinee,Stadt mit der besondere Note
LOCATION:Kurhaus Bad Tölz\, Ludwigstr. 25\, Bad Tölz\, 83646\, Demokratis
 che Volksrepublik Korea
X-APPLE-STRUCTURED-LOCATION;VALUE=URI;X-ADDRESS=Ludwigstr. 25\, Bad Tölz\,
  83646\, Demokratische Volksrepublik Korea;X-APPLE-RADIUS=100;X-TITLE=Kurh
 aus Bad Tölz:geo:0,0
END:VEVENT
BEGIN:VTIMEZONE
TZID:Europe/Berlin
X-LIC-LOCATION:Europe/Berlin
BEGIN:DAYLIGHT
DTSTART:20260329T030000
TZOFFSETFROM:+0100
TZOFFSETTO:+0200
TZNAME:CEST
END:DAYLIGHT
END:VTIMEZONE
END:VCALENDAR