BEGIN:VCALENDAR
VERSION:2.0
PRODID:-//wp-events-plugin.com//7.2.3.1//EN
TZID:Europe/Berlin
X-WR-TIMEZONE:Europe/Berlin
BEGIN:VEVENT
UID:152@musikschule-toelz.de
DTSTART;TZID=Europe/Berlin:20260502T193000
DTEND;TZID=Europe/Berlin:20260502T203000
DTSTAMP:20260422T144539Z
URL:https://musikschule-toelz.de/veranstaltung/ensemble-nebenluft-klarinet
 tenquartett/
SUMMARY:Ensemble Nebenluft - Klarinettenquartett
DESCRIPTION:Die Klarinette gilt weithin als besonders klangfarbenreiches un
 d modulationsfähiges Instrument. Kein Wunder also\, dass man in der kamme
 rmusikalischen Besetzung eines Quartetts mit Es-Klarinette\, zwei B-Klarin
 etten und Bassklarinette praktisch unbegrenzte Möglichkeiten nutzen kann\
 , um Originalkompositionen und Bearbeitungen von Musik aus jeder denkbaren
  Stilrichtung zu einem Hochgenuss zu machen.\n\nVier professionell ausgebi
 ldete Klarinettisten im Ensemble Nebenluft schrecken vor nichts zurück un
 d zaubern Werke der Klassik und Volksmusik genauso auf die Bühne wie auch
  Leckerbissen der Romantik\, der Filmmusik\, der Jazzmusik oder der Modern
 e.\n\nMit Barbara Reverchon\, Markus Hofberger\, Hans Ernst und dem ehemal
 igen Tölzer Musikschulleiter Harald Roßberger haben sich vor nahezu zwan
 zig Jahren vier absolute Experten zusammengefunden\, um dem Publikum in de
 n Konzerten des Ensemble Nebenluft beste Unterhaltung auf höchstem Niveau
  zu servieren.
ATTACH;FMTTYPE=image/jpeg:https://musikschule-toelz.de/wp-content/uploads/
 2026/04/Ensemble-Nebenluft-2026.jpg
CATEGORIES:Serenade,Stadt mit der besondere Note
LOCATION:Kleiner Kursaal Bad Tölz\, Vichyplatz 1\, Bad Tölz\, 83646\, Deu
 tschland
X-APPLE-STRUCTURED-LOCATION;VALUE=URI;X-ADDRESS=Vichyplatz 1\, Bad Tölz\, 
 83646\, Deutschland;X-APPLE-RADIUS=100;X-TITLE=Kleiner Kursaal Bad Tölz:g
 eo:0,0
END:VEVENT
BEGIN:VTIMEZONE
TZID:Europe/Berlin
X-LIC-LOCATION:Europe/Berlin
BEGIN:DAYLIGHT
DTSTART:20260329T030000
TZOFFSETFROM:+0100
TZOFFSETTO:+0200
TZNAME:CEST
END:DAYLIGHT
END:VTIMEZONE
END:VCALENDAR