BEGIN:VCALENDAR
VERSION:2.0
PRODID:-//wp-events-plugin.com//7.2.3.1//EN
TZID:Europe/Berlin
X-WR-TIMEZONE:Europe/Berlin
BEGIN:VEVENT
UID:24@musikschule-toelz.de
DTSTART;TZID=Europe/Berlin:20240209T193000
DTEND;TZID=Europe/Berlin:20240209T210000
DTSTAMP:20240109T085113Z
URL:https://musikschule-toelz.de/veranstaltung/jacques-tati-und-seine-film
 e/
SUMMARY:Jacques Tati und seine Filme
DESCRIPTION:Der französische Filmregisseur und Komiker Jacques Tati ist be
 kannt als der Schöpfer des “Monsieur Hulot”: Eines baumlangen Mannes 
 mit zu kurzen Hosen und Ringelsocken\, der in seinen Filmen\, die fast ohn
 e Dialoge auskommen\, die Hauptrolle spielte. Ohne diese Inspiration wäre
  der englische “Mr. Bean” nicht denkbar\, aber auch die deutsche Legen
 de Loriot hat sich oft bei ihm bedient.\nAlbert Maly-Motta stellt das Lebe
 n und die Filme von Jacques Tati in seinem Vortrag vor\, und zeigt auch\, 
 dass Tati weit mehr war als nur ein Komiker: Seine Filme “mon oncle” u
 nd “Playtime” zeigen ihn als Kritiker der modernen Architektur\, die i
 mmer seelenloser und gleichförmiger wird.
ATTACH;FMTTYPE=image/jpeg:https://musikschule-toelz.de/wp-content/uploads/
 2024/01/Filme-Tati.jpg
CATEGORIES:Akademie am Schloßplatz
LOCATION:Tölzer Marionettentheater\, Am Schloßplatz 9\, Bad Tölz\, 83646
 \, Deutschland
X-APPLE-STRUCTURED-LOCATION;VALUE=URI;X-ADDRESS=Am Schloßplatz 9\, Bad Tö
 lz\, 83646\, Deutschland;X-APPLE-RADIUS=100;X-TITLE=Tölzer Marionettenthe
 ater:geo:0,0
END:VEVENT
BEGIN:VTIMEZONE
TZID:Europe/Berlin
X-LIC-LOCATION:Europe/Berlin
BEGIN:STANDARD
DTSTART:20231029T020000
TZOFFSETFROM:+0200
TZOFFSETTO:+0100
TZNAME:CET
END:STANDARD
END:VTIMEZONE
END:VCALENDAR