BEGIN:VCALENDAR
VERSION:2.0
PRODID:-//wp-events-plugin.com//7.2.3.1//EN
TZID:Europe/Berlin
X-WR-TIMEZONE:Europe/Berlin
BEGIN:VEVENT
UID:37@musikschule-toelz.de
DTSTART:20240515T173000Z
DTEND:20240515T173000Z
DTSTAMP:20240502T073259Z
URL:https://musikschule-toelz.de/veranstaltung/juniorpodium/
SUMMARY:Juniorpodium
DESCRIPTION:Im Junior-Podium haben Schülerinnen und Schüler der Sing- und
  Musikschule die Möglichkeit\, im Rahmen eines kleinen öffentlichen Vors
 piels die Junior-Prüfungen J1 und J2 abzulegen. Die Juniorprüfungen sind
  Bausteine im System Freiwilliger Leistungsprüfungen an Bayerischen Sing-
  und Musikschulen.\n\nIm heutigen Junior-Podium werden Schülerinnen und S
 chüler mehrerer Lehrkräfte der Sing- und Musikschule auftreten.\nDer Ein
 tritt ist frei\, über Zuhörer freuen wir uns!
ATTACH;FMTTYPE=image/jpeg:https://musikschule-toelz.de/wp-content/uploads/
 2023/10/Orchester.jpg
CATEGORIES:Konzerte
LOCATION:Sing- und Musikschule Bad Tölz\, Am Schloßplatz 5\, Bad Tölz\, 
 83646\, Deutschland
X-APPLE-STRUCTURED-LOCATION;VALUE=URI;X-ADDRESS=Am Schloßplatz 5\, Bad Tö
 lz\, 83646\, Deutschland;X-APPLE-RADIUS=100;X-TITLE=Sing- und Musikschule 
 Bad Tölz:geo:0,0
END:VEVENT
END:VCALENDAR