BEGIN:VCALENDAR
VERSION:2.0
PRODID:-//wp-events-plugin.com//7.2.3.1//EN
TZID:Europe/Berlin
X-WR-TIMEZONE:Europe/Berlin
BEGIN:VEVENT
UID:31@musikschule-toelz.de
DTSTART:20240411T183000Z
DTEND:20240411T183000Z
DTSTAMP:20240411T081525Z
URL:https://musikschule-toelz.de/veranstaltung/kammermusikalische-leckerbi
 ssen-mit-mundart-popular-songs-rainer-gruber-akkordeon-leonhard-schwarz-gi
 tarre-tuba-julia-poeckl-gesang/
SUMMARY:Kammermusikalische Leckerbissen mit Mundart-Popular-Songs - Rainer 
 Gruber (Akkordeon)\, Leonhard Schwarz (Gitarre\, Tuba)\, Julia Pöckl (Ges
 ang)
DESCRIPTION:Musik zwischen Melancholie und Leidenschaft trifft auf Mundart 
 Lieder von Julia Pöckl\n\n&nbsp\;\n\nRainer Gruber\, der an der Sing- und
  Musikschule Bad Tölz als Lehrer für Akkordeon\, Steirische Harmonika un
 d Gitarre wirkt\, die Sängerin Julia Plöckl und Leonhard Schwarz (Gitarr
 e\, Tuba) werden Musik zwischen Melancholie und Leidenschaft darbieten. Mu
 ndartlieder von Julia Plöckl werden als besondere Leckerbissen in das Pro
 gramm eingestreut.\n\nDie Veranstaltungsreihe „Bad Tölz – Stadt mit d
 er besonderen Note“ findet bereits in der 14. Saison in gemeinsamer Vera
 ntwortung des Städtischen Referats für Tourismus und Kultur und der Sing
 - und Musikschule Bad Tölz statt.\n\nDas Konzert am Donnerstag\, dem 11. 
 April 2024 beginnt bei freiem Eintritt um 19.30 Uhr im Kleinen Kursaal. Wi
 r freuen uns auf Ihren Besuch!
ATTACH;FMTTYPE=image/jpeg:https://musikschule-toelz.de/wp-content/uploads/
 2022/03/Rainer-Solo-e1694598850626.jpg
CATEGORIES:Konzerte,Serenade,Stadt mit der besondere Note
LOCATION:Kleiner Kursaal Bad Tölz\, Vichyplatz 1\, Bad Tölz\, 83646\, Deu
 tschland
X-APPLE-STRUCTURED-LOCATION;VALUE=URI;X-ADDRESS=Vichyplatz 1\, Bad Tölz\, 
 83646\, Deutschland;X-APPLE-RADIUS=100;X-TITLE=Kleiner Kursaal Bad Tölz:g
 eo:0,0
END:VEVENT
END:VCALENDAR