BEGIN:VCALENDAR
VERSION:2.0
PRODID:-//wp-events-plugin.com//7.2.3.1//EN
TZID:Europe/Berlin
X-WR-TIMEZONE:Europe/Berlin
BEGIN:VEVENT
UID:109@musikschule-toelz.de
DTSTART;TZID=Europe/Berlin:20250813T193000
DTEND;TZID=Europe/Berlin:20250813T193000
DTSTAMP:20250730T065517Z
URL:https://musikschule-toelz.de/veranstaltung/konzertkrimi-mit-markus-ebe
 rhard/
SUMMARY:Konzertkrimi mit Markus Eberhard
DESCRIPTION:
ATTACH;FMTTYPE=image/jpeg:https://musikschule-toelz.de/wp-content/uploads/
 2022/03/ME-205-Farbe-e1694598475702.jpg
CATEGORIES:Konzerte,Serenade,Stadt mit der besondere Note
LOCATION:Kleiner Kursaal Bad Tölz\, Vichyplatz 1\, Bad Tölz\, 83646\, Deu
 tschland
X-APPLE-STRUCTURED-LOCATION;VALUE=URI;X-ADDRESS=Vichyplatz 1\, Bad Tölz\, 
 83646\, Deutschland;X-APPLE-RADIUS=100;X-TITLE=Kleiner Kursaal Bad Tölz:g
 eo:0,0
END:VEVENT
BEGIN:VTIMEZONE
TZID:Europe/Berlin
X-LIC-LOCATION:Europe/Berlin
BEGIN:DAYLIGHT
DTSTART:20250330T030000
TZOFFSETFROM:+0100
TZOFFSETTO:+0200
TZNAME:CEST
END:DAYLIGHT
END:VTIMEZONE
END:VCALENDAR