BEGIN:VCALENDAR
VERSION:2.0
PRODID:-//wp-events-plugin.com//7.2.3.1//EN
TZID:Europe/Berlin
X-WR-TIMEZONE:Europe/Berlin
BEGIN:VEVENT
UID:161@musikschule-toelz.de
DTSTART;TZID=Europe/Berlin:20260523T193000
DTEND;TZID=Europe/Berlin:20260523T203000
DTSTAMP:20260422T151720Z
URL:https://musikschule-toelz.de/veranstaltung/lindenbar-im-mai/
SUMMARY:Lindenbar im Mai
DESCRIPTION:Etwas Singer/Songwriter\, etwas Balkan\, etwas Ballade\, etwas 
 Funk\, etwas Jodeln\, und viel Lyrik. Vier Menschen\, die ihr Leben lang K
 unst und Musik lebten\, und nie ohne waren.
CATEGORIES:Serenade,Stadt mit der besondere Note
LOCATION:Kleiner Kursaal Bad Tölz\, Vichyplatz 1\, Bad Tölz\, 83646\, Deu
 tschland
X-APPLE-STRUCTURED-LOCATION;VALUE=URI;X-ADDRESS=Vichyplatz 1\, Bad Tölz\, 
 83646\, Deutschland;X-APPLE-RADIUS=100;X-TITLE=Kleiner Kursaal Bad Tölz:g
 eo:0,0
END:VEVENT
BEGIN:VTIMEZONE
TZID:Europe/Berlin
X-LIC-LOCATION:Europe/Berlin
BEGIN:DAYLIGHT
DTSTART:20260329T030000
TZOFFSETFROM:+0100
TZOFFSETTO:+0200
TZNAME:CEST
END:DAYLIGHT
END:VTIMEZONE
END:VCALENDAR