BEGIN:VCALENDAR
VERSION:2.0
PRODID:-//wp-events-plugin.com//7.2.3.1//EN
TZID:Europe/Berlin
X-WR-TIMEZONE:Europe/Berlin
BEGIN:VEVENT
UID:20@musikschule-toelz.de
DTSTART;TZID=Europe/Berlin:20240513T083000
DTEND;TZID=Europe/Berlin:20240515T113000
DTSTAMP:20240411T080704Z
URL:https://musikschule-toelz.de/veranstaltung/neueinschreibung-fuer-das-s
 chuljahr-2024-2025/
SUMMARY:Neueinschreibung für das Schuljahr 2024/2025
DESCRIPTION:Für den Unterricht an der Sing- und Musikschule Bad Tölz im S
 chuljahr 2024/2025 wird an den drei Tagen\n\nMontag\, 13. Mai\nDienstag\, 
 14. Mai und\nMittwoch\, 15. Mai\n\neine Neueinschreibung angeboten.\nDie M
 öglichkeit\, sich für den Musikunterricht anzumelden\, besteht an den ge
 nannten Tagen jeweils von 8:30 Uhr bis 11:30 Uhr im Musikschulbüro des Gr
 einer-Kulturhauses\, am Schloßplatz 5.\n\n36 musikpädagogisch und künst
 lerisch qualifizierte Lehrkräfte unterrichten an der Sing- und Musikschul
 e die meisten Instrumentalfächer (Holz- und Blechblasinstrumente\, Tasten
 instrumente\, Streichinstrumente\, Zupf- und Schlaginstrumente) in kleinen
  Gruppen und im Einzelunterricht.\nDazu besteht die Möglichkeit des Ensem
 blemusizierens in verschiedenen Zusammensetzungen sowie die Mitwirkung in 
 Kinder/Jugendorchester\, Sinfonieorchester\, Big-Band\, Chören\, Musikthe
 ater oder Projekten.\n\nMusik für kleine Leute\nIm Programm der Sing- und
  Musikschule Bad Tölz finden sich auch wieder Kurse für besonders junge 
 Kinder. Dabei geht es ausdrücklich nicht darum\, die Kinder möglichst fr
 üh für große musikalische Leistungen zu ertüchtigen.\nMusikalische Erz
 iehung und das aktive musikalische Tun unterstützen gerade in jungen Jahr
 en die gesamte Persönlichkeitsbildung von Kindern nachweisbar positiv.\nD
 ie Angebote für Kinder unter vier Jahren richten sich jeweils auch an ein
 e Bezugsperson\, die den Musikunterricht zusammen mit dem Kind besucht.\n\
 nMusikalische Früherziehung\nKinder im Alter von 4 – 6 Jahren\nGruppenu
 nterricht mit den zentralen Inhalten Singen\, Sprechen\, Rhythmus\, elemen
 tares Instrumentalspiel (Orff-Instrumente)\, elementares Tanzen (Bewegung 
 zur Musik) u.v.a.m.\n\nFür 6-8-jährige Kinder besteht die Möglichkeit\,
  im Unterricht der Instrumentalen Grundausbildung (IGA) oder der Rhythmisc
 h/musikalischen Erziehung (RME)\, sowie den Bambini-Gruppen eine ausführl
 iche Vorbereitung im Hinblick auf späteren Instrumentalunterricht wahrzun
 ehmen.\n\nParallel oder als Alternative zu den genannten Fächern bietet d
 ie Sing- und Musikschule Chorunterricht und Gesangsunterricht für alle ki
 ndlichen und jugendlichen Altersstufen ab 6 Jahren an.\n\nDa in den meiste
 n Bereichen nur eine begrenzte Anzahl von Plätzen zur Verfügung steht\, 
 empfiehlt die Schulleitung die Anmeldung während der genannten Neueinschr
 eibungszeit.\n\nFür weitere Informationen steht die Musikschulleitung und
  das Büro unter Tel. 08041/70204 gerne zur Verfügung.
ATTACH;FMTTYPE=image/jpeg:https://musikschule-toelz.de/wp-content/uploads/
 2024/01/Plakat-Neueinschreibung-2024-scaled.jpg
LOCATION:Sing- und Musikschule Bad Tölz\, Am Schloßplatz 5\, Bad Tölz\, 
 83646\, Deutschland
X-APPLE-STRUCTURED-LOCATION;VALUE=URI;X-ADDRESS=Am Schloßplatz 5\, Bad Tö
 lz\, 83646\, Deutschland;X-APPLE-RADIUS=100;X-TITLE=Sing- und Musikschule 
 Bad Tölz:geo:0,0
END:VEVENT
BEGIN:VTIMEZONE
TZID:Europe/Berlin
X-LIC-LOCATION:Europe/Berlin
BEGIN:DAYLIGHT
DTSTART:20240331T030000
TZOFFSETFROM:+0100
TZOFFSETTO:+0200
TZNAME:CEST
END:DAYLIGHT
END:VTIMEZONE
END:VCALENDAR