BEGIN:VCALENDAR
VERSION:2.0
PRODID:-//wp-events-plugin.com//7.2.3.1//EN
TZID:Europe/Berlin
X-WR-TIMEZONE:Europe/Berlin
BEGIN:VEVENT
UID:141@musikschule-toelz.de
DTSTART;TZID=Europe/Berlin:20260511T200000
DTEND;TZID=Europe/Berlin:20260511T210000
DTSTAMP:20260413T083002Z
URL:https://musikschule-toelz.de/veranstaltung/online-elternabend-zur-orie
 ntierungsstufe/
SUMMARY:Online - Elternabend zur Orientierungsstufe
DESCRIPTION:Was? \nEinladung zum online-Elterninformationsabend\n „Orient
 ierungsfächer“\n\nFür wen?	\nEltern von Kindern\, die zwei Jahre musik
 alische Früherziehung besucht haben \nEltern von Grundschulkindern (1./2.
  Klasse)\nEltern\, die für Ihre 5-7-jährigen Kinder Interesse an Gruppen
 angeboten aus dem Bereich der Orientierungsfächer haben. \nAngebote der O
 rientierungsfächer: \n-	Instrumentale Grundausbildung IGA \n-	Rhythmisch-
 musikalische Erziehung RME \n-	Bläser/Blockflöten-Bambini\, Streicher-Ba
 mbini\, Percussion-Bambini\, Ukulele-Bambini \n-	Kinderchor\, Mini-Musikth
 eater\n\nDurch wen?		\nLehrkräfte und Schulleitung der Sing- und Musiksch
 ule Bad Tölz\n\nWann?			\nMontag\, 11. Mai 20.00 Uhr\n\nWofür?	\nInforma
 tionen und Entscheidungshilfen für die Wahl eines zukünftigen Unterricht
 sfachs für Ihre Kinder\n\nWie?	\nEinladung erfolgt über zugesandten Link
 . Wollen Sie an dem Informationsabend teilnehmen\, hinterlassen Sie uns bi
 tte Ihren Namen und Ihre Mailadresse:\n\n[contact-form-7 id="c32bf73" titl
 e="Anmeldung Elternabend"]\n\n\nWas noch? 		\nBei Fragen kontaktieren Sie 
 uns bitte gerne \nÜber Telefon: 08041 – 70204 (vormittags an Schultagen
 \, Mo. – Do.)\nPer Mail: verwaltung@musikschule-toelz.de\nPersönlich: i
 n den Räumen der Sing- und Musikschule im Greiner-Kulturhaus\, am Schloß
 platz 5\, 83646 Bad Tölz (vormittags an Schultagen\, Mo. – Do.) \n
END:VEVENT
BEGIN:VTIMEZONE
TZID:Europe/Berlin
X-LIC-LOCATION:Europe/Berlin
BEGIN:DAYLIGHT
DTSTART:20260329T030000
TZOFFSETFROM:+0100
TZOFFSETTO:+0200
TZNAME:CEST
END:DAYLIGHT
END:VTIMEZONE
END:VCALENDAR