BEGIN:VCALENDAR
VERSION:2.0
PRODID:-//wp-events-plugin.com//7.2.3.1//EN
TZID:Europe/Berlin
X-WR-TIMEZONE:Europe/Berlin
BEGIN:VEVENT
UID:62@musikschule-toelz.de
DTSTART:20250411T180000Z
DTEND:20250411T200000Z
DTSTAMP:20241104T102825Z
URL:https://musikschule-toelz.de/veranstaltung/raffael-und-das-ideal-der-s
 choenheit/
SUMMARY:Raffael und das Ideal der Schönheit
DESCRIPTION:Neben Leonardo da Vinci und Michelangelo ist er die dritte Grö
 ße der Zeit der italienischen Hochrenaissance: Raffael Santi aus Urbino (
 1483 - 1520)\, der schon zu Lebzeiten das Privileg genoss\, unter seinem V
 ornamen bekannt zu sein. Im Zentrum der Veranstaltung steht Raffaels Leben
  und seine Suche nach dem Ideal der Schönheit\, nach dem ästhetischen We
 rt der Kunst. Für ihn war Schönheit in der Natur nur unvollkommen und ve
 rstreut zu finden und so vertrat er die Auffassung\, dass es allein der Ku
 nst gelingen könne\, die von Gott geschaffene Schönheit ganz zu offenbar
 en. Dass er dies mit einer Meisterschaft\, die ihres Gleichen sucht\, gesc
 hafft hat\, zeigt die Inschrift auf seinem Grabmal im Pantheon in Rom: »D
 ieser hier ist Raffael\, von dem\, solange er lebte\, die große Mutter al
 ler Dinge (die Natur) fürchtete\, übertroffen zu werden\, und als er abe
 r starb\, dass sie zugleich mit ihm stürbe.«\n\nStefan Müller hat das S
 tudium der Kunstgeschichte\, Klassischen Archäologie und Neueren deutsche
 n Literaturwissenschaft an den Universitäten in Gießen und Marburg mit d
 em Magister Artium abgeschlossen und ist seit 2008 als freiberuflicher Kun
 sthistoriker mit dem Schwerpunkt Erwachsenenbildung tätig.\n\n\n\n\n\nZei
 ten\n1 Abend\, 11.04.2025\nFreitag\, 19:30 - 21:00 Uhr\n\n\n\n1 Termin(e)\
 n\n\n\n\n\n\n\n\n\n\n\nLeitung\n\nStefan Müller\n\n\nNummer\n206.001TAk\n
 \n\nOrt\n\n Tölzer Marionettentheater\, Am Schloßplatz 9\, 83646 Bad T
 ölz\, Großer Saal\, EG\n\n\nPreis\nAbendkasse 12\,00 €\n\n\n\n
ATTACH;FMTTYPE=image/jpeg:https://musikschule-toelz.de/wp-content/uploads/
 2024/11/Raffael.jpg
CATEGORIES:Akademie am Schloßplatz
LOCATION:Tölzer Marionettentheater\, Am Schloßplatz 9\, Bad Tölz\, 83646
 \, Deutschland
X-APPLE-STRUCTURED-LOCATION;VALUE=URI;X-ADDRESS=Am Schloßplatz 9\, Bad Tö
 lz\, 83646\, Deutschland;X-APPLE-RADIUS=100;X-TITLE=Tölzer Marionettenthe
 ater:geo:0,0
END:VEVENT
END:VCALENDAR