BEGIN:VCALENDAR
VERSION:2.0
PRODID:-//wp-events-plugin.com//7.2.3.1//EN
TZID:Europe/Berlin
X-WR-TIMEZONE:Europe/Berlin
BEGIN:VEVENT
UID:157@musikschule-toelz.de
DTSTART;TZID=Europe/Berlin:20260513T193000
DTEND;TZID=Europe/Berlin:20260513T203000
DTSTAMP:20260422T151209Z
URL:https://musikschule-toelz.de/veranstaltung/reise-durch-die-klassik-ein
 -abend-mit-ganz-besonderen-noten/
SUMMARY:Reise durch die Klassik - ein Abend mit ganz besonderen Noten
DESCRIPTION:Begeben Sie sich mit uns auf die Reise durch klassische Werke m
 it einer besonderen Note.\nDie Tonleiter bietet acht Töne. Wir würzen di
 eses Klangkonstrukt mit einem 9. Ton. Der bekannte Musiker Peter Maffay be
 schreibt diesen als „den guten Ton. Dieser steht für respektvolles Zusa
 mmenspiel\, dafür\, dem anderen Raum zu geben […]“\n\nLassen Sie sich
  musikalisch verzaubern vom Veeh-Harfen-Ensemble der Sing- und Musikschule
  Bad Tölz e.V. Gemeinsam mit der Sängerin\, Elisabeth Artmeier- Mogl tra
 gen ganz besondere 9 Töne in ihrer ganzen Strahl- und Klangkraft Sie durc
 h einen klassischen Abend\, der an Vielfalt und Klangraum nicht zu beschre
 iben ist. Treten Sie ein\, lehnen Sie sich zurück und genießen Sie mit u
 ns die Reise durch die Klassik – mit eben ganz besonderen Noten.
CATEGORIES:Serenade,Stadt mit der besondere Note
LOCATION:Kleiner Kursaal Bad Tölz\, Vichyplatz 1\, Bad Tölz\, 83646\, Deu
 tschland
X-APPLE-STRUCTURED-LOCATION;VALUE=URI;X-ADDRESS=Vichyplatz 1\, Bad Tölz\, 
 83646\, Deutschland;X-APPLE-RADIUS=100;X-TITLE=Kleiner Kursaal Bad Tölz:g
 eo:0,0
END:VEVENT
BEGIN:VTIMEZONE
TZID:Europe/Berlin
X-LIC-LOCATION:Europe/Berlin
BEGIN:DAYLIGHT
DTSTART:20260329T030000
TZOFFSETFROM:+0100
TZOFFSETTO:+0200
TZNAME:CEST
END:DAYLIGHT
END:VTIMEZONE
END:VCALENDAR