BEGIN:VCALENDAR
VERSION:2.0
PRODID:-//wp-events-plugin.com//7.2.3.1//EN
TZID:Europe/Berlin
X-WR-TIMEZONE:Europe/Berlin
BEGIN:VEVENT
UID:18@musikschule-toelz.de
DTSTART;TZID=Europe/Berlin;VALUE=DATE:20240429
DTEND;TZID=Europe/Berlin;VALUE=DATE:20240518
DTSTAMP:20240411T080631Z
URL:https://musikschule-toelz.de/veranstaltung/schnupperwochen-in-der-musi
 kschule/
SUMMARY:Schnupperwochen in der Musikschule
DESCRIPTION:Schnupperwochen an der Sing- und Musikschule\n29. April bis 17.
  Mai 2024\nSing- und Musikschule Bad Tölz e.V.\nGreiner-Kulturhaus\, Am S
 chloßplatz 5\n\nDie Sing- und Musikschule Bad Tölz bietet als öffentlic
 he Bildungseinrichtung allen interessierten Schülern und Eltern die Mögl
 ichkeit\, einen praxisnahen Eindruck von Lehrkräften und Unterricht im um
 fangreichen Fächerangebot zu gewinnen. In der Zeit von 29. April bis 17. 
 Mai können im Rahmen der Schnupperwochen verschiedenste Angebote im Berei
 ch des Vokal- und Instrumentalunterrichts kennengelernt werden.\n\n36 musi
 kpädagogisch und künstlerisch qualifizierte Lehrkräfte unterrichten an 
 der Sing- und Musikschule zahlreiche Instrumentalfächer (Holz- und Blechb
 lasinstrumente\, Tasteninstrumente\, Streichinstrumente\, Zupf- und Schlag
 instrumente) in kleinen Gruppen und im Einzelunterricht.\nDazu besteht die
  Möglichkeit des Ensemblemusizierens in verschiedenen Zusammensetzungen s
 owie die Mitwirkung in Kinder/Jugendorchester\, Sinfonieorchester\, Big-Ba
 nd\, Musiktheater oder Projekten.\n\nKindern im Alter von 18 Monaten bis 3
  Jahre steht zusammen mit einem Elternteil die Teilnahme an den Musikzwerg
 en 1 offen\, anschließend laden die Musikzwerge 2 dazu ein\, die elementa
 re Musikpädagogik zu vertiefen.\n\nFür Vorschulkinder bietet die Sing- u
 nd Musikschule den Gruppenunterricht der Musikalischen Früherziehung an. 
 Hier werden auf spielerische Art und Weise musikalische Grundlagen vermitt
 elt und damit wichtige Voraussetzungen für spätere musikalische Aktivit
 äten gelegt.\n\nFür 6-9-jährige Kinder besteht die Möglichkeit\, im Un
 terricht der Orientierungsstufe herauszufinden\, ob und ggf. welches Instr
 ument später für den instrumentalen oder vokalen Hauptfachunterricht inf
 rage kommt. Im Rahmen der Orientierungsstufe werden neben der Instrumental
 en Grundausbildung (IGA) oder der Rhythmisch/Musikalischen Erziehung (RME)
  auch die Harfen-Bambini\, Streicher-Bambini\, Blockflöten-Bambini und Pe
 rcussion-Bambini an den Start gehen.\n\nParallel oder als Alternative zu d
 en genannten Fächern bietet die Sing- und Musikschule Chorunterricht\, Ge
 sangsunterricht und Musiktheater für alle kindlichen und jugendlichen Alt
 ersstufen ab 6 Jahren an.\n\nNicht nur\, aber auch für SeniorInnen steht 
 das Angebot des Gruppenmusizierens mit der Veeh-Harfe bereit.\n\nFür die 
 Abstimmung von Schnupperterminen bittet die Sing- und Musikschule um\ntele
 fonische Absprache unter 08041 – 70204 oder um Anfragen per\nE-Mail an: 
 verwaltung@musikschule-toelz.de Website: www.musikschule-toelz.de\n\nWir f
 reuen uns über Ihr Interesse und auf Ihre Kontaktaufnahme!
ATTACH;FMTTYPE=image/jpeg:https://musikschule-toelz.de/wp-content/uploads/
 2024/04/Plakat-Schnupperwochen-2024-scaled-e1729237370789.jpg
LOCATION:Sing- und Musikschule Bad Tölz\, Am Schloßplatz 5\, Bad Tölz\, 
 83646\, Deutschland
X-APPLE-STRUCTURED-LOCATION;VALUE=URI;X-ADDRESS=Am Schloßplatz 5\, Bad Tö
 lz\, 83646\, Deutschland;X-APPLE-RADIUS=100;X-TITLE=Sing- und Musikschule 
 Bad Tölz:geo:0,0
END:VEVENT
BEGIN:VTIMEZONE
TZID:Europe/Berlin
X-LIC-LOCATION:Europe/Berlin
BEGIN:DAYLIGHT
DTSTART:20240331T030000
TZOFFSETFROM:+0100
TZOFFSETTO:+0200
TZNAME:CEST
END:DAYLIGHT
END:VTIMEZONE
END:VCALENDAR