BEGIN:VCALENDAR
VERSION:2.0
PRODID:-//wp-events-plugin.com//7.2.3.1//EN
TZID:Europe/Berlin
X-WR-TIMEZONE:Europe/Berlin
BEGIN:VEVENT
UID:156@musikschule-toelz.de
DTSTART;TZID=Europe/Berlin:20260510T103000
DTEND;TZID=Europe/Berlin:20260510T120000
DTSTAMP:20260422T151040Z
URL:https://musikschule-toelz.de/veranstaltung/session4four-jazz-am-morgen
 -3/
SUMMARY:Session4four - Jazz am Morgen
DESCRIPTION:Die vier Musiker haben sich vor über 25 Jahren auf dem Tölzer
  Gymnasium zusammengefunden\, um gemeinsam zu musizieren. Seitdem spielen 
 sie nicht nur regelmäßig Konzerte als Jazzcombo im südbayerischen Raum\
 , sondern auch auf verschiedenen Tanzveranstaltungen und können auf ein b
 reit gefächertes Repertoire zurückgreifen\, das sie sich im Laufe der Ja
 hre erarbeitet haben. Es deckt die ganze Pallette der Tanzmusik ab: Vom Wi
 ener Walzer über Foxtrott\, Jive\, Cha Cha Cha\, Rumba\, Samba\, Tango\, 
 Disco Fox\, Rock’n’Roll\, Twist\, aber auch Stücke von Joe Cocker\, d
 en Blues Brothers\, James Brown\, der Spider Murphy Gang\, Carlos Santana\
 , etc.
ATTACH;FMTTYPE=image/jpeg:https://musikschule-toelz.de/wp-content/uploads/
 2025/07/session4four.jpg
CATEGORIES:Matinee,Stadt mit der besondere Note
LOCATION:Kurhaus Bad Tölz\, Ludwigstr. 25\, Bad Tölz\, 83646\, Demokratis
 che Volksrepublik Korea
X-APPLE-STRUCTURED-LOCATION;VALUE=URI;X-ADDRESS=Ludwigstr. 25\, Bad Tölz\,
  83646\, Demokratische Volksrepublik Korea;X-APPLE-RADIUS=100;X-TITLE=Kurh
 aus Bad Tölz:geo:0,0
END:VEVENT
BEGIN:VTIMEZONE
TZID:Europe/Berlin
X-LIC-LOCATION:Europe/Berlin
BEGIN:DAYLIGHT
DTSTART:20260329T030000
TZOFFSETFROM:+0100
TZOFFSETTO:+0200
TZNAME:CEST
END:DAYLIGHT
END:VTIMEZONE
END:VCALENDAR