BEGIN:VCALENDAR
VERSION:2.0
PRODID:-//wp-events-plugin.com//7.2.3.1//EN
TZID:Europe/Berlin
X-WR-TIMEZONE:Europe/Berlin
BEGIN:VEVENT
UID:105@musikschule-toelz.de
DTSTART;TZID=Europe/Berlin:20250731T200000
DTEND;TZID=Europe/Berlin:20250731T211500
DTSTAMP:20250731T085631Z
URL:https://musikschule-toelz.de/veranstaltung/toelzer-jugendsinfonieorche
 ster-meets-toelzer-jugendkapelle/
SUMMARY:Tölzer Jugendsinfonieorchester meets Tölzer Jugendkapelle - ABGES
 AGT!
DESCRIPTION:\nDIESE VERANSTALTUNG IST AUS ORGANISATORISCHEN GRÜNDEN LEIDER
  ABGESAGT! WIR BITTE UM IHR VERSTÄNDIS!Open-Air-Konzert verlegt in Aula d
 es Gabriel-von-Seidl-Gymnasiums Bad Tölz\n\n&nbsp\;\n\n„Isarmonics Symp
 hony“ (Jugendsinfonieorchester der Sing- und Musikschule) und der Tölze
 r Jugendkapelle\n\n&nbsp\;\n\nDonnerstag\, 31. Juli 2025\, 20.00 Uhr  Einl
 ass 19:30 Uhr\n\n&nbsp\;\n\nEintritt frei! Das Jugendsinfonieorchester der
  Sing- und Musikschule und die Tölzer Jugendkapelle geben ein Konzert in 
 der Aula des Gabriel-von-Seidl-Gymnasiums Bad Tölz\, als witterungsbeding
 te Ausweichspielstätte statt der Marktstraße. Es ist schon zu einer gute
 n Tradition geworden\, dass unter Regie der Sing- und Musikschule zum Schu
 ljahresende Open-Air-Konzerte in der Marktstraße stattfinden. Nach den ä
 ußerst erfolgreichen Konzerten des Sinfonieorchesters in den vergangenen 
 Jahren brennen rund 70 junge Musikerinnen und Musiker des Orchesters darau
 f\, auch in diesem Jahr die Tölzer Marktstraße in einen Konzertsaal zu v
 erwandeln. Mit der Tölzer Jugendkapelle hat sich das Jugendsinfonieorches
 ter der Sing- und Musikschule in diesem Jahr wieder wohlklingende Verstär
 kung an ihre Seite geholt. Witterungsbedingt wird 2025 in die Turnhalle de
 r Tölzer Jahnschule ausgwichen. In Zusammenarbeit mit dem städtischen Re
 ferat für Tourismus und Kultur planen Sing- und Musikschule und Tölzer J
 ugendkapelle zum wiederholten Male eine Freiluftveranstaltung für die ver
 schiedenen Klangkörper. Die Nachwuchsmusikerinnen und Nachwuchsmusiker de
 s Jugendsinfonieorchesters und der Jugendstadtkapelle werden unter dem Dir
 igat von Musikschullehrer und Stadtkapellmeister Sepp Kronwitter Werke aus
  dem Bereich der Klassik\, der Filmmusik\, Volks- und Weltmusik zum Besten
  geben. Das Konzert findet bei freiem Eintritt ab 20.00 Uhr in der Aula de
 s Gabriel-von-Seidl-Gymnasiums Bad Tölz statt und wird ca. 80 Minuten dau
 ern.
CATEGORIES:Konzerte
LOCATION:Gabriel-von-Seidl-Gymnasium Bad Tölz\, Hindenburgstr. 26\, Bad T
 ölz\, 83646\, Deutschland
X-APPLE-STRUCTURED-LOCATION;VALUE=URI;X-ADDRESS=Hindenburgstr. 26\, Bad Tö
 lz\, 83646\, Deutschland;X-APPLE-RADIUS=100;X-TITLE=Gabriel-von-Seidl-Gymn
 asium Bad Tölz:geo:0,0
END:VEVENT
BEGIN:VTIMEZONE
TZID:Europe/Berlin
X-LIC-LOCATION:Europe/Berlin
BEGIN:DAYLIGHT
DTSTART:20250330T030000
TZOFFSETFROM:+0100
TZOFFSETTO:+0200
TZNAME:CEST
END:DAYLIGHT
END:VTIMEZONE
END:VCALENDAR