BEGIN:VCALENDAR
VERSION:2.0
PRODID:-//wp-events-plugin.com//7.2.3.1//EN
TZID:Europe/Berlin
X-WR-TIMEZONE:Europe/Berlin
BEGIN:VEVENT
UID:158@musikschule-toelz.de
DTSTART;TZID=Europe/Berlin:20260517T103000
DTEND;TZID=Europe/Berlin:20260517T120000
DTSTAMP:20260422T151300Z
URL:https://musikschule-toelz.de/veranstaltung/toelzer-jugendstadtkapelle-
 2/
SUMMARY:Tölzer Jugendstadtkapelle
DESCRIPTION:Die Tölzer Jugendkapelle wurde 1995 von Sepp Kronwitter gegrü
 ndet. Mit etwa 40 Musikerinnen und Musikern im Alter von 10 bis 25 Jahren 
 bietet das „Vorstufen“-Orchester der Tölzer Stadtkapelle eine Plattfo
 rm zur Förderung junger Talente in einem harmonischen und leistungsorient
 ierten Umfeld. Was als kleines Blechbläserensemble begann\, hat sich zu e
 inem beeindruckenden\, eigenständigen Klangkörper entwickelt. Ein heraus
 ragender Erfolg war der Sieg beim Mittelstufenwettbewerb des bayerischen M
 usikbundes 2019\, der das hohe musikalische Niveau und die exzellente Arbe
 it von Dirigent Kronwitter unterstreicht. Das Repertoire umfasst neben bay
 erisch-böhmischer Blasmusik auch moderne Potpourris und sinfonische Blasm
 usikwerke.
ATTACH;FMTTYPE=image/jpeg:https://musikschule-toelz.de/wp-content/uploads/
 2025/07/Juka-scaled.jpg
CATEGORIES:Matinee,Stadt mit der besondere Note
LOCATION:Kurhaus Bad Tölz\, Ludwigstr. 25\, Bad Tölz\, 83646\, Demokratis
 che Volksrepublik Korea
X-APPLE-STRUCTURED-LOCATION;VALUE=URI;X-ADDRESS=Ludwigstr. 25\, Bad Tölz\,
  83646\, Demokratische Volksrepublik Korea;X-APPLE-RADIUS=100;X-TITLE=Kurh
 aus Bad Tölz:geo:0,0
END:VEVENT
BEGIN:VTIMEZONE
TZID:Europe/Berlin
X-LIC-LOCATION:Europe/Berlin
BEGIN:DAYLIGHT
DTSTART:20260329T030000
TZOFFSETFROM:+0100
TZOFFSETTO:+0200
TZNAME:CEST
END:DAYLIGHT
END:VTIMEZONE
END:VCALENDAR