BEGIN:VCALENDAR
VERSION:2.0
PRODID:-//wp-events-plugin.com//7.2.3.1//EN
TZID:Europe/Berlin
X-WR-TIMEZONE:Europe/Berlin
BEGIN:VEVENT
UID:154@musikschule-toelz.de
DTSTART;TZID=Europe/Berlin:20260507T183000
DTEND;TZID=Europe/Berlin:20260507T200000
DTSTAMP:20260422T150829Z
URL:https://musikschule-toelz.de/veranstaltung/toelzer-summer-sound-duo-pa
 seo-rainer-gruber-akkordeon-und-jan-eschke-klavier/
SUMMARY:Tölzer Summer Sound: Duo Paseo - Rainer Gruber (Akkordeon) und Jan
  Eschke (Klavier)
DESCRIPTION:Wenn Farben plötzlich nicht nur zu sehen\, sondern sogar zu h
 ören sind\, dann\, weil die beiden außergewöhnlichen Musiker Rainer Gru
 ber (Akkordeon und Gitarre) und Jan Eschke (Klavier) dies in ihren facette
 nreichen Kompositionen möglich machen. Sie zeichnen mit ihrer Musik Bilde
 r und Filme und es gelingt den beiden Instrumentalisten dabei\, vielseitig
 e Stimmungen zu erzeugen\, die ähnlich wie Filmmusik die Bilder des Höre
 rs im Kopf untermalen. Ein Erlebnis\, wenn man als Zuhörer selbst zum Kom
 ponisten wird\, wenn die Musik der Beiden einen mitnimmt nach Andalusien\,
  Buenos Aires\, den Staffelsee und die Isar. Der Hörer geht mit dem Duo a
 uf eine Entdeckungsreise und kommt in den Genuss verschiedener Stimmungen 
 und Emotionen.\nIn Ihren Werken spürt man die Melancholie und gleichzeiti
 g die Ruhe eines skandinavischen Walzers oder das unbändige Temperament e
 ines argentinischen Tangos. Man schmeckt förmlich die Tasse café au lait
  an der Rue de Seine\, wenn die Musette erklingt.18:30
ATTACH;FMTTYPE=image/jpeg:https://musikschule-toelz.de/wp-content/uploads/
 2026/04/Rainer-Gruber.jpg
CATEGORIES:Stadt mit der besondere Note
LOCATION:Isarpromenade\, Bürgermeister-Stollreither-Promenade\, Bad Tölz\
 , 83646\, Deutschland
X-APPLE-STRUCTURED-LOCATION;VALUE=URI;X-ADDRESS=Bürgermeister-Stollreither
 -Promenade\, Bad Tölz\, 83646\, Deutschland;X-APPLE-RADIUS=100;X-TITLE=Is
 arpromenade:geo:0,0
END:VEVENT
BEGIN:VTIMEZONE
TZID:Europe/Berlin
X-LIC-LOCATION:Europe/Berlin
BEGIN:DAYLIGHT
DTSTART:20260329T030000
TZOFFSETFROM:+0100
TZOFFSETTO:+0200
TZNAME:CEST
END:DAYLIGHT
END:VTIMEZONE
END:VCALENDAR