BEGIN:VCALENDAR
VERSION:2.0
PRODID:-//wp-events-plugin.com//7.2.3.1//EN
TZID:Europe/Berlin
X-WR-TIMEZONE:Europe/Berlin
BEGIN:VEVENT
UID:160@musikschule-toelz.de
DTSTART;TZID=Europe/Berlin:20260521T183000
DTEND;TZID=Europe/Berlin:20260521T200000
DTSTAMP:20260422T151623Z
URL:https://musikschule-toelz.de/veranstaltung/toelzer-summer-sound-quanta
 re-vokalquartett/
SUMMARY:Tölzer Summer Sound: Quantare - Vokalquartett
DESCRIPTION:Seit über 10 Jahren singen wir gemeinsam in dieser Besetzung! 
 10 Jahre schon wachsen unsere Stimmen zusammen und schenken den Liedern un
 seren einzigartigen Klang. Alle Lieder bearbeiten wir neu\, maßgeschneide
 rt für unseren Gesang. Immer wieder übernimmt eine andere Stimme die Mel
 odie\, so schaffen wir unsere klangvolle Vielfalt.\nDurch eigene Texte\, o
 der kleine eingestreute Mundart-Strophen wird jedes Lied zu etwas ganz Eig
 enem\, Neuen.\n\n 
CATEGORIES:Stadt mit der besondere Note
LOCATION:Telefonzelle am Klammerweiher\, Thomas-Mann-Weg\, Bad Tölz\, Deut
 schland
X-APPLE-STRUCTURED-LOCATION;VALUE=URI;X-ADDRESS=Thomas-Mann-Weg\, Bad Tölz
 \, Deutschland;X-APPLE-RADIUS=100;X-TITLE=Telefonzelle am Klammerweiher:ge
 o:0,0
END:VEVENT
BEGIN:VTIMEZONE
TZID:Europe/Berlin
X-LIC-LOCATION:Europe/Berlin
BEGIN:DAYLIGHT
DTSTART:20260329T030000
TZOFFSETFROM:+0100
TZOFFSETTO:+0200
TZNAME:CEST
END:DAYLIGHT
END:VTIMEZONE
END:VCALENDAR