BEGIN:VCALENDAR
VERSION:2.0
PRODID:-//wp-events-plugin.com//7.2.3.1//EN
TZID:Europe/Berlin
X-WR-TIMEZONE:Europe/Berlin
BEGIN:VEVENT
UID:159@musikschule-toelz.de
DTSTART;TZID=Europe/Berlin:20260517T180000
DTEND;TZID=Europe/Berlin:20260517T193000
DTSTAMP:20260422T151433Z
URL:https://musikschule-toelz.de/veranstaltung/voicesintime-rock-und-jazzc
 hor/
SUMMARY:VoicesInTime – Rock- und Jazzchor
DESCRIPTION:VoicesInTime - Jazz happens\n\nViel passiert bei VoicesInTime! 
 Mit seiner neuen Chorleiterin\, der Sängerin und Dirigentin Sonja Lachenm
 ayr\, schlägt der preisgekrönte Münchner A-cappella-Chor ein spannendes
  neues Kapitel auf. Freuen Sie sich auf neue Schwerpunkte\, knackige Arran
 gements und frische Klangfarben! So grooven und rocken die Sängerinnen un
 d Sänger mit glasklaren Stimmen und sattem Sound durchs Programm "Jazz ha
 ppens". Mit dabei: Rockklassiker von Bands wie Sportfreunde Stiller\, aktu
 elle Charthits von Nina Chuba oder Ed Sheeran\, Oldies-Songperlen von Gene
 sis und eine gute Portion smoother Jazz von Duke Ellington und Charlie Cha
 plin. Münchens Rock- und Jazzchor der ersten Stunde bleibt dabei auch nac
 h mehr als 30 Jahren seinem Motto treu: Ein Abend mit VoicesInTime ist ein
  Abend voller Überraschungen.\n\nhttps://voicesintime.de\n\nhttps://sonja
 -lachenmayr.de
ATTACH;FMTTYPE=image/jpeg:https://musikschule-toelz.de/wp-content/uploads/
 2026/04/VoicesinTime-scaled.jpg
CATEGORIES:Serenade,Stadt mit der besondere Note
LOCATION:Franzmühle\, Salzstraße 1\, Bad Tölz\, 83646\, Deutschland
X-APPLE-STRUCTURED-LOCATION;VALUE=URI;X-ADDRESS=Salzstraße 1\, Bad Tölz\,
  83646\, Deutschland;X-APPLE-RADIUS=100;X-TITLE=Franzmühle:geo:0,0
END:VEVENT
BEGIN:VTIMEZONE
TZID:Europe/Berlin
X-LIC-LOCATION:Europe/Berlin
BEGIN:DAYLIGHT
DTSTART:20260329T030000
TZOFFSETFROM:+0100
TZOFFSETTO:+0200
TZNAME:CEST
END:DAYLIGHT
END:VTIMEZONE
END:VCALENDAR