BEGIN:VCALENDAR
VERSION:2.0
PRODID:-//wp-events-plugin.com//7.2.3.1//EN
TZID:Europe/Berlin
X-WR-TIMEZONE:Europe/Berlin
BEGIN:VEVENT
UID:26@musikschule-toelz.de
DTSTART;TZID=Europe/Berlin:20240223T193000
DTEND;TZID=Europe/Berlin:20240223T210000
DTSTAMP:20240109T085133Z
URL:https://musikschule-toelz.de/veranstaltung/von-den-gebruedern-lumiere-
 zu-highframe-und-hdr/
SUMMARY:Von den Gebrüdern Lumière zu HighFrame und HDR
DESCRIPTION:Eine vergnügliche Reise durch die Welt des bewegten Bildes mit
  historischen Bildern und Filmschnipseln.\nMit Kuriositäten und Meilenste
 inen der Filmtechnik\, bis hin zum HiTech-Kino.\nIng.  Peter Beil erzähl
 t aus den fast 60 Jahren seiner Tätigkeit im Filmgeschäft.\nAufgrund  d
 er  begrenzten  Sitzplätze  bitten wir um Kartenreservierung. Dies ist
  möglich bei  der  Tourist-Information (Max-Höfler-Platz und Stadtmuse
 um)\, dem Tölzer Marionettentheater\,  der  Sing-  und  Musikschule B
 ad Tölz und der Volkshochschule Bad Tölz.
ATTACH;FMTTYPE=image/jpeg:https://musikschule-toelz.de/wp-content/uploads/
 2024/01/Geschichte-der-Projektion.jpg
CATEGORIES:Akademie am Schloßplatz
LOCATION:Tölzer Marionettentheater\, Am Schloßplatz 9\, Bad Tölz\, 83646
 \, Deutschland
X-APPLE-STRUCTURED-LOCATION;VALUE=URI;X-ADDRESS=Am Schloßplatz 9\, Bad Tö
 lz\, 83646\, Deutschland;X-APPLE-RADIUS=100;X-TITLE=Tölzer Marionettenthe
 ater:geo:0,0
END:VEVENT
BEGIN:VTIMEZONE
TZID:Europe/Berlin
X-LIC-LOCATION:Europe/Berlin
BEGIN:STANDARD
DTSTART:20231029T020000
TZOFFSETFROM:+0200
TZOFFSETTO:+0100
TZNAME:CET
END:STANDARD
END:VTIMEZONE
END:VCALENDAR