BEGIN:VCALENDAR
VERSION:2.0
PRODID:-//wp-events-plugin.com//7.2.3.1//EN
TZID:Europe/Berlin
X-WR-TIMEZONE:Europe/Berlin
BEGIN:VEVENT
UID:40@musikschule-toelz.de
DTSTART:20240617T170000Z
DTEND:20240617T170000Z
DTSTAMP:20240411T082505Z
URL:https://musikschule-toelz.de/veranstaltung/vorbereitungskurs-theorie-d
 1-bronze-8/
SUMMARY:Vorbereitungskurs Theorie D1 (Bronze)
DESCRIPTION:Erarbeitung/Wiederholung der Inhalte für die Theorieprüfung D
 1 (Bronze)
ATTACH;FMTTYPE=image/jpeg:https://musikschule-toelz.de/wp-content/uploads/
 2023/10/classroom-381895_1920.jpg
CATEGORIES:Freiwillige Leistungsprüfungen
LOCATION:Sing- und Musikschule Bad Tölz\, Am Schloßplatz 5\, Bad Tölz\, 
 83646\, Deutschland
X-APPLE-STRUCTURED-LOCATION;VALUE=URI;X-ADDRESS=Am Schloßplatz 5\, Bad Tö
 lz\, 83646\, Deutschland;X-APPLE-RADIUS=100;X-TITLE=Sing- und Musikschule 
 Bad Tölz:geo:0,0
END:VEVENT
END:VCALENDAR