BEGIN:VCALENDAR
VERSION:2.0
PRODID:-//wp-events-plugin.com//7.2.3.1//EN
TZID:Europe/Berlin
X-WR-TIMEZONE:Europe/Berlin
BEGIN:VEVENT
UID:5@musikschule-toelz.de
DTSTART;TZID=Europe/Berlin:20231025T180000
DTEND;TZID=Europe/Berlin:20231025T180000
DTSTAMP:20231018T071701Z
URL:https://musikschule-toelz.de/veranstaltung/vorbereitungskurs-theorie-d
 2-silber-3/
SUMMARY:Vorbereitungskurs Theorie D2 (Silber)
DESCRIPTION:Erarbeitung/Wiederholung der Inhalte für die Theorieprüfung D
 2 (Silber)
ATTACH;FMTTYPE=image/jpeg:https://musikschule-toelz.de/wp-content/uploads/
 2023/10/classroom-381895_1920.jpg
CATEGORIES:Freiwillige Leistungsprüfungen
LOCATION:Sing- und Musikschule Bad Tölz\, Am Schloßplatz 5\, Bad Tölz\, 
 83646\, Deutschland
X-APPLE-STRUCTURED-LOCATION;VALUE=URI;X-ADDRESS=Am Schloßplatz 5\, Bad Tö
 lz\, 83646\, Deutschland;X-APPLE-RADIUS=100;X-TITLE=Sing- und Musikschule 
 Bad Tölz:geo:0,0
END:VEVENT
BEGIN:VTIMEZONE
TZID:Europe/Berlin
X-LIC-LOCATION:Europe/Berlin
BEGIN:DAYLIGHT
DTSTART:20230326T030000
TZOFFSETFROM:+0100
TZOFFSETTO:+0200
TZNAME:CEST
END:DAYLIGHT
END:VTIMEZONE
END:VCALENDAR