BEGIN:VCALENDAR
VERSION:2.0
PRODID:-//wp-events-plugin.com//7.2.3.1//EN
TZID:Europe/Berlin
X-WR-TIMEZONE:Europe/Berlin
BEGIN:VEVENT
UID:128@musikschule-toelz.de
DTSTART;TZID=Europe/Berlin:20260203T181500
DTEND;TZID=Europe/Berlin:20260303T193000
DTSTAMP:20260126T092349Z
URL:https://musikschule-toelz.de/veranstaltung/vorspielabend-der-harfen-un
 d-blockfloetenschuelerinnen-von-judith-geissler-herzog-und-johanna-muernse
 er/
SUMMARY:Vorspielabend der Harfen- und Blockflötenschüler*innen von Judith
  Geißler-Herzog und Johanna Mürnseer
DESCRIPTION:Im Rahmen der Vorspiele präsentieren Schülerinnen und Schüle
 r der Musikschule ihr musikalisches Können vor Publikum. Das Vorspiel bie
 tet einen Einblick in die pädagogische Arbeit der Musikschule und zeigt d
 ie individuellen Lernfortschritte der jungen Musikerinnen und Musiker. Auf
  dem Programm stehen Werke aus unterschiedlichen Stilrichtungen und Epoche
 n\, interpretiert von Solistinnen und Solisten sowie gegebenenfalls in Ens
 embles.\nEltern\, Angehörige\, Freundinnen und Freunde der Musikschule so
 wie alle Interessierten sind herzlich eingeladen\, den musikalischen Beitr
 ägen zu lauschen und die Schülerinnen und Schüler in einem wertschätze
 nden Rahmen zu unterstützen. Der Eintritt ist frei.
ATTACH;FMTTYPE=image/jpeg:https://musikschule-toelz.de/wp-content/uploads/
 2023/10/Blockfloete.jpg
CATEGORIES:Konzerte,Schülervorspiel
LOCATION:Willy-Richartz-Saal\, Am Schloßplatz 5\, Bad Tölz\, 83646\, Deut
 schland
X-APPLE-STRUCTURED-LOCATION;VALUE=URI;X-ADDRESS=Am Schloßplatz 5\, Bad Tö
 lz\, 83646\, Deutschland;X-APPLE-RADIUS=100;X-TITLE=Willy-Richartz-Saal:ge
 o:0,0
END:VEVENT
BEGIN:VTIMEZONE
TZID:Europe/Berlin
X-LIC-LOCATION:Europe/Berlin
BEGIN:STANDARD
DTSTART:20251026T020000
TZOFFSETFROM:+0200
TZOFFSETTO:+0100
TZNAME:CET
END:STANDARD
END:VTIMEZONE
END:VCALENDAR